BEGIN:VCALENDAR
VERSION:2.0
PRODID:-//eventon.com NONSGML v1.0//EN
BEGIN:VEVENT
UID:69eb6a505042b
DTSTAMP:20260424T130416
DTSTART:20260329T000000Z
DTEND:20260403T235900Z
LOCATION:
SUMMARY:Sunday Service
DESCRIPTION: Sunday Service 10.30 am - 12.30 pm
END:VEVENT
END:VCALENDAR